BEGIN:VCALENDAR
VERSION:2.0
PRODID:-//PYVOBJECT//NONSGML Version 1//EN
BEGIN:VEVENT
UID:24497:3534
DTSTART:20151202T000000
DTEND:20151224T000000
DESCRIPTION:
DTSTAMP:20260426T031638Z
SUMMARY:Weihnachtskekese bei uns jetzt einkaufen!
END:VEVENT
END:VCALENDAR
