BEGIN:VCALENDAR
VERSION:2.0
PRODID:-//PYVOBJECT//NONSGML Version 1//EN
BEGIN:VEVENT
UID:24497:3535
DTSTART:20151202T000000
DTEND:20151213T000000
DESCRIPTION:
DTSTAMP:20260423T222409Z
SUMMARY:Weihnachtsabend mit SPAFUDLA am Sonntag\, 13.12.2015\, 20h 
END:VEVENT
END:VCALENDAR
